BEGIN:VCALENDAR
VERSION:2.0
PRODID:-//Deadly Inspiring Youth Doing Good - ECPv4.6.11.1//NONSGML v1.0//EN
CALSCALE:GREGORIAN
METHOD:PUBLISH
X-WR-CALNAME:Deadly Inspiring Youth Doing Good
X-ORIGINAL-URL:https://diydg.org.au
X-WR-CALDESC:Events for Deadly Inspiring Youth Doing Good
BEGIN:VEVENT
DTSTART;TZID=Australia/Brisbane:20180303T100000
DTEND;TZID=Australia/Brisbane:20180303T130000
DTSTAMP:20180224T132549
CREATED:20180207T160922Z
LAST-MODIFIED:20180207T160922Z
UID:1171-1520071200-1520082000@diydg.org.au
SUMMARY:Hungry jacks car wash
DESCRIPTION:Join us at hungry jacks and get your car washed!! Get some information about how DIYDG is Empowering the youth of today \n
URL:https://diydg.org.au/event/hungry-jacks-car-wash/
LOCATION:274 - 302 mulgrave road\, Westcourt\, Queensland\, 4870\, Australia
CATEGORIES:Everyone
ORGANIZER;CN="Oooh%20Na%20Na%20Tribe":MAILTO:whichway@diydg.org.au
END:VEVENT
END:VCALENDAR